BEGIN:VCALENDAR
VERSION:2.0
PRODID:-//eventon.com NONSGML v1.0//EN
CALSCALE:GREGORIAN
METHOD:PUBLISH
BEGIN:VEVENT
UID:69ecfe217b9b7
DTSTAMP:20260425T174713Z
DTSTART:20240602T080000Z
DTEND:20240602T210000Z
LOCATION:
SUMMARY:Tom's Donuts Morning Music
DESCRIPTION:Music Lineup 8:00 AM &#8211; 11:00 AM Jim &amp; Sue\nhttps://ww
 w.tomsdonutsoriginal.com/events/toms-donuts-block-party-sunset-soiree-featu
 ring-sunday/
URL:https://www.tomsdonutsoriginal.com/events/toms-donuts-block-party-sunset-soiree-featuring-sunday/
END:VEVENT
END:VCALENDAR